BEGIN:VCALENDAR
VERSION:2.0
PRODID:-//Newfield Public Library - ECPv6.15.20//NONSGML v1.0//EN
CALSCALE:GREGORIAN
METHOD:PUBLISH
X-ORIGINAL-URL:https://newfieldpubliclibrary.org
X-WR-CALDESC:Events for Newfield Public Library
REFRESH-INTERVAL;VALUE=DURATION:PT1H
X-Robots-Tag:noindex
X-PUBLISHED-TTL:PT1H
BEGIN:VTIMEZONE
TZID:America/New_York
BEGIN:DAYLIGHT
TZOFFSETFROM:-0500
TZOFFSETTO:-0400
TZNAME:EDT
DTSTART:20210314T070000
END:DAYLIGHT
BEGIN:STANDARD
TZOFFSETFROM:-0400
TZOFFSETTO:-0500
TZNAME:EST
DTSTART:20211107T060000
END:STANDARD
BEGIN:DAYLIGHT
TZOFFSETFROM:-0500
TZOFFSETTO:-0400
TZNAME:EDT
DTSTART:20220313T070000
END:DAYLIGHT
BEGIN:STANDARD
TZOFFSETFROM:-0400
TZOFFSETTO:-0500
TZNAME:EST
DTSTART:20221106T060000
END:STANDARD
BEGIN:DAYLIGHT
TZOFFSETFROM:-0500
TZOFFSETTO:-0400
TZNAME:EDT
DTSTART:20230312T070000
END:DAYLIGHT
BEGIN:STANDARD
TZOFFSETFROM:-0400
TZOFFSETTO:-0500
TZNAME:EST
DTSTART:20231105T060000
END:STANDARD
END:VTIMEZONE
BEGIN:VEVENT
DTSTART;TZID=America/New_York:20221122T103000
DTEND;TZID=America/New_York:20221122T113000
DTSTAMP:20260424T053222
CREATED:20220908T210754Z
LAST-MODIFIED:20221110T223721Z
UID:6038-1669113000-1669116600@newfieldpubliclibrary.org
SUMMARY:Family Storytime
DESCRIPTION:
URL:https://newfieldpubliclibrary.org/events/family-storytime-7/
END:VEVENT
BEGIN:VEVENT
DTSTART;TZID=America/New_York:20221122T183000
DTEND;TZID=America/New_York:20221122T193000
DTSTAMP:20260424T053222
CREATED:20221027T230611Z
LAST-MODIFIED:20221110T223652Z
UID:6328-1669141800-1669145400@newfieldpubliclibrary.org
SUMMARY:Sweet Reads
DESCRIPTION:Join us Thursday\, October 27 at 6:30 pm to talk about the books we are reading over dessert! All ages welcome.
URL:https://newfieldpubliclibrary.org/events/sweet-reads-5/
END:VEVENT
END:VCALENDAR