BEGIN:VCALENDAR
VERSION:2.0
PRODID:-//Newfield Public Library - ECPv6.15.20//NONSGML v1.0//EN
CALSCALE:GREGORIAN
METHOD:PUBLISH
X-WR-CALNAME:Newfield Public Library
X-ORIGINAL-URL:https://newfieldpubliclibrary.org
X-WR-CALDESC:Events for Newfield Public Library
REFRESH-INTERVAL;VALUE=DURATION:PT1H
X-Robots-Tag:noindex
X-PUBLISHED-TTL:PT1H
BEGIN:VTIMEZONE
TZID:America/New_York
BEGIN:DAYLIGHT
TZOFFSETFROM:-0500
TZOFFSETTO:-0400
TZNAME:EDT
DTSTART:20210314T070000
END:DAYLIGHT
BEGIN:STANDARD
TZOFFSETFROM:-0400
TZOFFSETTO:-0500
TZNAME:EST
DTSTART:20211107T060000
END:STANDARD
BEGIN:DAYLIGHT
TZOFFSETFROM:-0500
TZOFFSETTO:-0400
TZNAME:EDT
DTSTART:20220313T070000
END:DAYLIGHT
BEGIN:STANDARD
TZOFFSETFROM:-0400
TZOFFSETTO:-0500
TZNAME:EST
DTSTART:20221106T060000
END:STANDARD
BEGIN:DAYLIGHT
TZOFFSETFROM:-0500
TZOFFSETTO:-0400
TZNAME:EDT
DTSTART:20230312T070000
END:DAYLIGHT
BEGIN:STANDARD
TZOFFSETFROM:-0400
TZOFFSETTO:-0500
TZNAME:EST
DTSTART:20231105T060000
END:STANDARD
END:VTIMEZONE
BEGIN:VEVENT
DTSTART;TZID=America/New_York:20221129T103000
DTEND;TZID=America/New_York:20221129T113000
DTSTAMP:20260424T024325
CREATED:20220908T210831Z
LAST-MODIFIED:20221110T190743Z
UID:6041-1669717800-1669721400@newfieldpubliclibrary.org
SUMMARY:Baby Doll Circle Time
DESCRIPTION:Baby Doll Circle Time™ helps children experience attachment\, attunement\, and social play for optimal brain development. Supports executive skills like attention\, self-regulation\, impulse control and initiative\, language\, literacy\, numbers\, spatial awareness\, body parts and body awareness\, and cooperation. As children play with their dolls\, they strengthen the attachment and connection that they have with their caregivers and parents.
URL:https://newfieldpubliclibrary.org/events/family-storytime-8/
END:VEVENT
BEGIN:VEVENT
DTSTART;TZID=America/New_York:20221129T153000
DTEND;TZID=America/New_York:20221129T163000
DTSTAMP:20260424T024325
CREATED:20221107T223201Z
LAST-MODIFIED:20221110T190720Z
UID:6376-1669735800-1669739400@newfieldpubliclibrary.org
SUMMARY:Afterschool Special
DESCRIPTION:The Afterschool Special is a fun\, educational\, free\, enrichment program for middle school age students (grade 6-8/age 11-13) at Newfield Public Library!  \nNov 29\, 30\, and Dec 1 is Legomania Week!
URL:https://newfieldpubliclibrary.org/events/afterschool-special-6/
END:VEVENT
BEGIN:VEVENT
DTSTART;TZID=America/New_York:20221129T180000
DTEND;TZID=America/New_York:20221129T190000
DTSTAMP:20260424T024325
CREATED:20221027T234941Z
LAST-MODIFIED:20221110T160134Z
UID:6343-1669744800-1669748400@newfieldpubliclibrary.org
SUMMARY:History Reading and Discussion Group
DESCRIPTION:
URL:https://newfieldpubliclibrary.org/events/history-reading-and-discussion-group-3/
END:VEVENT
END:VCALENDAR