BEGIN:VCALENDAR
VERSION:2.0
PRODID:-//Newfield Public Library - ECPv6.15.20//NONSGML v1.0//EN
CALSCALE:GREGORIAN
METHOD:PUBLISH
X-WR-CALNAME:Newfield Public Library
X-ORIGINAL-URL:https://newfieldpubliclibrary.org
X-WR-CALDESC:Events for Newfield Public Library
REFRESH-INTERVAL;VALUE=DURATION:PT1H
X-Robots-Tag:noindex
X-PUBLISHED-TTL:PT1H
BEGIN:VTIMEZONE
TZID:America/New_York
BEGIN:DAYLIGHT
TZOFFSETFROM:-0500
TZOFFSETTO:-0400
TZNAME:EDT
DTSTART:20230312T070000
END:DAYLIGHT
BEGIN:STANDARD
TZOFFSETFROM:-0400
TZOFFSETTO:-0500
TZNAME:EST
DTSTART:20231105T060000
END:STANDARD
BEGIN:DAYLIGHT
TZOFFSETFROM:-0500
TZOFFSETTO:-0400
TZNAME:EDT
DTSTART:20240310T070000
END:DAYLIGHT
BEGIN:STANDARD
TZOFFSETFROM:-0400
TZOFFSETTO:-0500
TZNAME:EST
DTSTART:20241103T060000
END:STANDARD
BEGIN:DAYLIGHT
TZOFFSETFROM:-0500
TZOFFSETTO:-0400
TZNAME:EDT
DTSTART:20250309T070000
END:DAYLIGHT
BEGIN:STANDARD
TZOFFSETFROM:-0400
TZOFFSETTO:-0500
TZNAME:EST
DTSTART:20251102T060000
END:STANDARD
END:VTIMEZONE
BEGIN:VEVENT
DTSTART;TZID=America/New_York:20240125T153000
DTEND;TZID=America/New_York:20240125T163000
DTSTAMP:20260422T080814
CREATED:20240112T170053Z
LAST-MODIFIED:20240112T170053Z
UID:8196-1706196600-1706200200@newfieldpubliclibrary.org
SUMMARY:Afterschool Special
DESCRIPTION:
URL:https://newfieldpubliclibrary.org/events/afterschool-special-23/
END:VEVENT
BEGIN:VEVENT
DTSTART;TZID=America/New_York:20240125T180000
DTEND;TZID=America/New_York:20240125T190000
DTSTAMP:20260422T080814
CREATED:20240110T183941Z
LAST-MODIFIED:20240110T184517Z
UID:8146-1706205600-1706209200@newfieldpubliclibrary.org
SUMMARY:Mind Over Body with Mitch Raymond
DESCRIPTION: Learn how to improve through movement and techniques aimed at strengthening connection between mind and body from Mitch Raymond\, MSPT\, CEEAA. This program will also serve as a foundation of knowledge for “Mind Over Body” exercise classes starting monthly in February.
URL:https://newfieldpubliclibrary.org/events/mind-over-body-with-mitch-raymond/
END:VEVENT
END:VCALENDAR