BEGIN:VCALENDAR
VERSION:2.0
PRODID:-//Newfield Public Library - ECPv6.15.20//NONSGML v1.0//EN
CALSCALE:GREGORIAN
METHOD:PUBLISH
X-ORIGINAL-URL:https://newfieldpubliclibrary.org
X-WR-CALDESC:Events for Newfield Public Library
REFRESH-INTERVAL;VALUE=DURATION:PT1H
X-Robots-Tag:noindex
X-PUBLISHED-TTL:PT1H
BEGIN:VTIMEZONE
TZID:America/New_York
BEGIN:DAYLIGHT
TZOFFSETFROM:-0500
TZOFFSETTO:-0400
TZNAME:EDT
DTSTART:20230312T070000
END:DAYLIGHT
BEGIN:STANDARD
TZOFFSETFROM:-0400
TZOFFSETTO:-0500
TZNAME:EST
DTSTART:20231105T060000
END:STANDARD
BEGIN:DAYLIGHT
TZOFFSETFROM:-0500
TZOFFSETTO:-0400
TZNAME:EDT
DTSTART:20240310T070000
END:DAYLIGHT
BEGIN:STANDARD
TZOFFSETFROM:-0400
TZOFFSETTO:-0500
TZNAME:EST
DTSTART:20241103T060000
END:STANDARD
BEGIN:DAYLIGHT
TZOFFSETFROM:-0500
TZOFFSETTO:-0400
TZNAME:EDT
DTSTART:20250309T070000
END:DAYLIGHT
BEGIN:STANDARD
TZOFFSETFROM:-0400
TZOFFSETTO:-0500
TZNAME:EST
DTSTART:20251102T060000
END:STANDARD
END:VTIMEZONE
BEGIN:VEVENT
DTSTART;TZID=America/New_York:20240130T103000
DTEND;TZID=America/New_York:20240130T113000
DTSTAMP:20260422T063013
CREATED:20231214T153912Z
LAST-MODIFIED:20231214T153912Z
UID:8021-1706610600-1706614200@newfieldpubliclibrary.org
SUMMARY:Family Storytime
DESCRIPTION:Read more!
URL:https://newfieldpubliclibrary.org/events/family-storytime-53/
END:VEVENT
BEGIN:VEVENT
DTSTART;TZID=America/New_York:20240130T153000
DTEND;TZID=America/New_York:20240130T163000
DTSTAMP:20260422T063013
CREATED:20240112T170134Z
LAST-MODIFIED:20240112T170134Z
UID:8198-1706628600-1706632200@newfieldpubliclibrary.org
SUMMARY:Afterschool Special
DESCRIPTION:
URL:https://newfieldpubliclibrary.org/events/afterschool-special-24/
END:VEVENT
END:VCALENDAR