BEGIN:VCALENDAR
VERSION:2.0
PRODID:-//Newfield Public Library - ECPv6.15.20//NONSGML v1.0//EN
CALSCALE:GREGORIAN
METHOD:PUBLISH
X-ORIGINAL-URL:https://newfieldpubliclibrary.org
X-WR-CALDESC:Events for Newfield Public Library
REFRESH-INTERVAL;VALUE=DURATION:PT1H
X-Robots-Tag:noindex
X-PUBLISHED-TTL:PT1H
BEGIN:VTIMEZONE
TZID:America/New_York
BEGIN:DAYLIGHT
TZOFFSETFROM:-0500
TZOFFSETTO:-0400
TZNAME:EDT
DTSTART:20230312T070000
END:DAYLIGHT
BEGIN:STANDARD
TZOFFSETFROM:-0400
TZOFFSETTO:-0500
TZNAME:EST
DTSTART:20231105T060000
END:STANDARD
BEGIN:DAYLIGHT
TZOFFSETFROM:-0500
TZOFFSETTO:-0400
TZNAME:EDT
DTSTART:20240310T070000
END:DAYLIGHT
BEGIN:STANDARD
TZOFFSETFROM:-0400
TZOFFSETTO:-0500
TZNAME:EST
DTSTART:20241103T060000
END:STANDARD
BEGIN:DAYLIGHT
TZOFFSETFROM:-0500
TZOFFSETTO:-0400
TZNAME:EDT
DTSTART:20250309T070000
END:DAYLIGHT
BEGIN:STANDARD
TZOFFSETFROM:-0400
TZOFFSETTO:-0500
TZNAME:EST
DTSTART:20251102T060000
END:STANDARD
END:VTIMEZONE
BEGIN:VEVENT
DTSTART;TZID=America/New_York:20241015T103000
DTEND;TZID=America/New_York:20241015T113000
DTSTAMP:20260425T132008
CREATED:20240927T174757Z
LAST-MODIFIED:20240927T174757Z
UID:11550-1728988200-1728991800@newfieldpubliclibrary.org
SUMMARY:Family Storytime
DESCRIPTION:
URL:https://newfieldpubliclibrary.org/events/family-storytime-86/
END:VEVENT
BEGIN:VEVENT
DTSTART;TZID=America/New_York:20241015T153000
DTEND;TZID=America/New_York:20241015T163000
DTSTAMP:20260425T132008
CREATED:20240927T174918Z
LAST-MODIFIED:20240927T174918Z
UID:11554-1729006200-1729009800@newfieldpubliclibrary.org
SUMMARY:Afterschool Special
DESCRIPTION:
URL:https://newfieldpubliclibrary.org/events/afterschool-special-65/
END:VEVENT
BEGIN:VEVENT
DTSTART;TZID=America/New_York:20241015T180000
DTEND;TZID=America/New_York:20241015T190000
DTSTAMP:20260425T132008
CREATED:20240927T174822Z
LAST-MODIFIED:20240927T174822Z
UID:11552-1729015200-1729018800@newfieldpubliclibrary.org
SUMMARY:Board Meeting
DESCRIPTION:
URL:https://newfieldpubliclibrary.org/events/board-meeting-6/
END:VEVENT
END:VCALENDAR