BEGIN:VCALENDAR
VERSION:2.0
PRODID:-//Newfield Public Library - ECPv6.15.20//NONSGML v1.0//EN
CALSCALE:GREGORIAN
METHOD:PUBLISH
X-WR-CALNAME:Newfield Public Library
X-ORIGINAL-URL:https://newfieldpubliclibrary.org
X-WR-CALDESC:Events for Newfield Public Library
REFRESH-INTERVAL;VALUE=DURATION:PT1H
X-Robots-Tag:noindex
X-PUBLISHED-TTL:PT1H
BEGIN:VTIMEZONE
TZID:America/New_York
BEGIN:DAYLIGHT
TZOFFSETFROM:-0500
TZOFFSETTO:-0400
TZNAME:EDT
DTSTART:20240310T070000
END:DAYLIGHT
BEGIN:STANDARD
TZOFFSETFROM:-0400
TZOFFSETTO:-0500
TZNAME:EST
DTSTART:20241103T060000
END:STANDARD
BEGIN:DAYLIGHT
TZOFFSETFROM:-0500
TZOFFSETTO:-0400
TZNAME:EDT
DTSTART:20250309T070000
END:DAYLIGHT
BEGIN:STANDARD
TZOFFSETFROM:-0400
TZOFFSETTO:-0500
TZNAME:EST
DTSTART:20251102T060000
END:STANDARD
BEGIN:DAYLIGHT
TZOFFSETFROM:-0500
TZOFFSETTO:-0400
TZNAME:EDT
DTSTART:20260308T070000
END:DAYLIGHT
BEGIN:STANDARD
TZOFFSETFROM:-0400
TZOFFSETTO:-0500
TZNAME:EST
DTSTART:20261101T060000
END:STANDARD
END:VTIMEZONE
BEGIN:VEVENT
DTSTART;TZID=America/New_York:20250401T103000
DTEND;TZID=America/New_York:20250401T113000
DTSTAMP:20260421T121314
CREATED:20250305T204657Z
LAST-MODIFIED:20250305T204657Z
UID:12579-1743503400-1743507000@newfieldpubliclibrary.org
SUMMARY:Family Storytime
DESCRIPTION:
URL:https://newfieldpubliclibrary.org/events/family-storytime-106/
END:VEVENT
BEGIN:VEVENT
DTSTART;TZID=America/New_York:20250401T153000
DTEND;TZID=America/New_York:20250401T163000
DTSTAMP:20260421T121314
CREATED:20250310T171129Z
LAST-MODIFIED:20250310T171129Z
UID:12633-1743521400-1743525000@newfieldpubliclibrary.org
SUMMARY:Afterschool Special
DESCRIPTION:
URL:https://newfieldpubliclibrary.org/events/afterschool-special-108/
END:VEVENT
END:VCALENDAR