BEGIN:VCALENDAR
VERSION:2.0
PRODID:-//Newfield Public Library - ECPv6.15.20//NONSGML v1.0//EN
CALSCALE:GREGORIAN
METHOD:PUBLISH
X-WR-CALNAME:Newfield Public Library
X-ORIGINAL-URL:https://newfieldpubliclibrary.org
X-WR-CALDESC:Events for Newfield Public Library
REFRESH-INTERVAL;VALUE=DURATION:PT1H
X-Robots-Tag:noindex
X-PUBLISHED-TTL:PT1H
BEGIN:VTIMEZONE
TZID:America/New_York
BEGIN:DAYLIGHT
TZOFFSETFROM:-0500
TZOFFSETTO:-0400
TZNAME:EDT
DTSTART:20250309T070000
END:DAYLIGHT
BEGIN:STANDARD
TZOFFSETFROM:-0400
TZOFFSETTO:-0500
TZNAME:EST
DTSTART:20251102T060000
END:STANDARD
BEGIN:DAYLIGHT
TZOFFSETFROM:-0500
TZOFFSETTO:-0400
TZNAME:EDT
DTSTART:20260308T070000
END:DAYLIGHT
BEGIN:STANDARD
TZOFFSETFROM:-0400
TZOFFSETTO:-0500
TZNAME:EST
DTSTART:20261101T060000
END:STANDARD
BEGIN:DAYLIGHT
TZOFFSETFROM:-0500
TZOFFSETTO:-0400
TZNAME:EDT
DTSTART:20270314T070000
END:DAYLIGHT
BEGIN:STANDARD
TZOFFSETFROM:-0400
TZOFFSETTO:-0500
TZNAME:EST
DTSTART:20271107T060000
END:STANDARD
END:VTIMEZONE
BEGIN:VEVENT
DTSTART;TZID=America/New_York:20260424T183000
DTEND;TZID=America/New_York:20260424T193000
DTSTAMP:20260424T022050
CREATED:20260416T172414Z
LAST-MODIFIED:20260416T172414Z
UID:15184-1777055400-1777059000@newfieldpubliclibrary.org
SUMMARY:Movie Night- The SpongeBob Movie: Search for SquarePants
DESCRIPTION:
URL:https://newfieldpubliclibrary.org/events/movie-night-the-spongebob-movie-search-for-squarepants/
END:VEVENT
BEGIN:VEVENT
DTSTART;TZID=America/New_York:20260424T183000
DTEND;TZID=America/New_York:20260424T200000
DTSTAMP:20260424T022050
CREATED:20260402T174921Z
LAST-MODIFIED:20260402T174921Z
UID:15167-1777055400-1777060800@newfieldpubliclibrary.org
SUMMARY:Movie Night: The Spongebob Movie
DESCRIPTION:
URL:https://newfieldpubliclibrary.org/events/movie-night-the-spongebob-movie/
END:VEVENT
END:VCALENDAR