BEGIN:VCALENDAR
VERSION:2.0
PRODID:-//Newfield Public Library - ECPv6.15.20//NONSGML v1.0//EN
CALSCALE:GREGORIAN
METHOD:PUBLISH
X-ORIGINAL-URL:https://newfieldpubliclibrary.org
X-WR-CALDESC:Events for Newfield Public Library
REFRESH-INTERVAL;VALUE=DURATION:PT1H
X-Robots-Tag:noindex
X-PUBLISHED-TTL:PT1H
BEGIN:VTIMEZONE
TZID:America/New_York
BEGIN:DAYLIGHT
TZOFFSETFROM:-0500
TZOFFSETTO:-0400
TZNAME:EDT
DTSTART:20210314T070000
END:DAYLIGHT
BEGIN:STANDARD
TZOFFSETFROM:-0400
TZOFFSETTO:-0500
TZNAME:EST
DTSTART:20211107T060000
END:STANDARD
BEGIN:DAYLIGHT
TZOFFSETFROM:-0500
TZOFFSETTO:-0400
TZNAME:EDT
DTSTART:20220313T070000
END:DAYLIGHT
BEGIN:STANDARD
TZOFFSETFROM:-0400
TZOFFSETTO:-0500
TZNAME:EST
DTSTART:20221106T060000
END:STANDARD
BEGIN:DAYLIGHT
TZOFFSETFROM:-0500
TZOFFSETTO:-0400
TZNAME:EDT
DTSTART:20230312T070000
END:DAYLIGHT
BEGIN:STANDARD
TZOFFSETFROM:-0400
TZOFFSETTO:-0500
TZNAME:EST
DTSTART:20231105T060000
END:STANDARD
END:VTIMEZONE
BEGIN:VEVENT
DTSTART;VALUE=DATE:20220904
DTEND;VALUE=DATE:20220906
DTSTAMP:20260423T221008
CREATED:20220908T214353Z
LAST-MODIFIED:20220908T214353Z
UID:6077-1662318000-1662404399@newfieldpubliclibrary.org
SUMMARY:CLOSED
DESCRIPTION:Labor Day!
URL:https://newfieldpubliclibrary.org/events/closed-18/
END:VEVENT
BEGIN:VEVENT
DTSTART;TZID=America/New_York:20220906T053000
DTEND;TZID=America/New_York:20220906T063000
DTSTAMP:20260423T221008
CREATED:20220908T205541Z
LAST-MODIFIED:20220908T214532Z
UID:6016-1662442200-1662445800@newfieldpubliclibrary.org
SUMMARY:Family Storytime
DESCRIPTION:
URL:https://newfieldpubliclibrary.org/events/family-storytime-1030-47/
END:VEVENT
BEGIN:VEVENT
DTSTART;TZID=America/New_York:20220913T053000
DTEND;TZID=America/New_York:20220913T063000
DTSTAMP:20260423T221008
CREATED:20220908T205633Z
LAST-MODIFIED:20220908T212340Z
UID:6018-1663047000-1663050600@newfieldpubliclibrary.org
SUMMARY:Family Storytime
DESCRIPTION:
URL:https://newfieldpubliclibrary.org/events/family-storytime-1030-49/
END:VEVENT
BEGIN:VEVENT
DTSTART;TZID=America/New_York:20220915T133000
DTEND;TZID=America/New_York:20220915T150000
DTSTAMP:20260423T221008
CREATED:20220908T212809Z
LAST-MODIFIED:20220908T213302Z
UID:6064-1663248600-1663254000@newfieldpubliclibrary.org
SUMMARY:Sweet Reads!
DESCRIPTION: Let’s talk about the books we are reading over dessert!
URL:https://newfieldpubliclibrary.org/events/sweet-reads-3/
END:VEVENT
BEGIN:VEVENT
DTSTART;TZID=America/New_York:20220920T053000
DTEND;TZID=America/New_York:20220920T063000
DTSTAMP:20260423T221008
CREATED:20220908T205717Z
LAST-MODIFIED:20220908T212320Z
UID:6020-1663651800-1663655400@newfieldpubliclibrary.org
SUMMARY:Family Storytime
DESCRIPTION:
URL:https://newfieldpubliclibrary.org/events/family-storytime-1030-50/
END:VEVENT
BEGIN:VEVENT
DTSTART;TZID=America/New_York:20220920T090000
DTEND;TZID=America/New_York:20220920T110000
DTSTAMP:20260423T221008
CREATED:20220908T215324Z
LAST-MODIFIED:20220908T215823Z
UID:6085-1663664400-1663671600@newfieldpubliclibrary.org
SUMMARY:League of Women Voters Event
DESCRIPTION:Register to vote\, find out about the candidates and more!
URL:https://newfieldpubliclibrary.org/events/league-of-women-voters-registration-event/
END:VEVENT
BEGIN:VEVENT
DTSTART;TZID=America/New_York:20220920T130000
DTEND;TZID=America/New_York:20220920T150000
DTSTAMP:20260423T221008
CREATED:20220908T214838Z
LAST-MODIFIED:20220908T214838Z
UID:6082-1663678800-1663686000@newfieldpubliclibrary.org
SUMMARY:Library Board Meeting
DESCRIPTION:
URL:https://newfieldpubliclibrary.org/events/library-board-meeting/
END:VEVENT
BEGIN:VEVENT
DTSTART;TZID=America/New_York:20220921T103000
DTEND;TZID=America/New_York:20220921T113000
DTSTAMP:20260423T221008
CREATED:20220908T213448Z
LAST-MODIFIED:20220908T213506Z
UID:6067-1663756200-1663759800@newfieldpubliclibrary.org
SUMMARY:Sciencenter
DESCRIPTION:Come explore with us!
URL:https://newfieldpubliclibrary.org/events/sciencenter-2/
END:VEVENT
BEGIN:VEVENT
DTSTART;TZID=America/New_York:20220921T110000
DTEND;TZID=America/New_York:20220921T130000
DTSTAMP:20260423T221008
CREATED:20220919T231438Z
LAST-MODIFIED:20220921T195553Z
UID:6106-1663758000-1663765200@newfieldpubliclibrary.org
SUMMARY:Tompkins County Health Department
DESCRIPTION:Learn about free resources including the Healthy Neighborhood program!
URL:https://newfieldpubliclibrary.org/events/tompkins-county-health-department/
END:VEVENT
BEGIN:VEVENT
DTSTART;TZID=America/New_York:20220922T133000
DTEND;TZID=America/New_York:20220922T150000
DTSTAMP:20260423T221008
CREATED:20220825T220942Z
LAST-MODIFIED:20220908T212252Z
UID:5995-1663853400-1663858800@newfieldpubliclibrary.org
SUMMARY:The Adirondack Guide Boat
DESCRIPTION:Douglas MacCaskill gives a brief history on the use and construction of the Adirondack guide boat and demonstration of techniques.
URL:https://newfieldpubliclibrary.org/events/the-adirondack-guide-boat-630/
END:VEVENT
BEGIN:VEVENT
DTSTART;TZID=America/New_York:20220927T053000
DTEND;TZID=America/New_York:20220927T063000
DTSTAMP:20260423T221008
CREATED:20220908T205851Z
LAST-MODIFIED:20220908T212216Z
UID:6022-1664256600-1664260200@newfieldpubliclibrary.org
SUMMARY:Family Storytime
DESCRIPTION:
URL:https://newfieldpubliclibrary.org/events/family-storytime-1030-51/
END:VEVENT
BEGIN:VEVENT
DTSTART;TZID=America/New_York:20220930T140000
DTEND;TZID=America/New_York:20220930T150000
DTSTAMP:20260423T221008
CREATED:20220921T195240Z
LAST-MODIFIED:20220921T195504Z
UID:6111-1664546400-1664550000@newfieldpubliclibrary.org
SUMMARY:Movie Night: Encanto
DESCRIPTION:Tale of a family who live in the mountains of Colombia\, in a charmed place called Encanto. Everyone in the family has a gift\, from super strength to the power to heal\, except for Mirabel. But Encanto is in danger\, and Mirabel might be the only one to save them. Snacks provided\, all ages welcome!
URL:https://newfieldpubliclibrary.org/events/movie-night-encanto/
END:VEVENT
END:VCALENDAR