BEGIN:VCALENDAR
VERSION:2.0
PRODID:-//Newfield Public Library - ECPv6.15.20//NONSGML v1.0//EN
CALSCALE:GREGORIAN
METHOD:PUBLISH
X-WR-CALNAME:Newfield Public Library
X-ORIGINAL-URL:https://newfieldpubliclibrary.org
X-WR-CALDESC:Events for Newfield Public Library
REFRESH-INTERVAL;VALUE=DURATION:PT1H
X-Robots-Tag:noindex
X-PUBLISHED-TTL:PT1H
BEGIN:VTIMEZONE
TZID:America/New_York
BEGIN:DAYLIGHT
TZOFFSETFROM:-0500
TZOFFSETTO:-0400
TZNAME:EDT
DTSTART:20220313T070000
END:DAYLIGHT
BEGIN:STANDARD
TZOFFSETFROM:-0400
TZOFFSETTO:-0500
TZNAME:EST
DTSTART:20221106T060000
END:STANDARD
BEGIN:DAYLIGHT
TZOFFSETFROM:-0500
TZOFFSETTO:-0400
TZNAME:EDT
DTSTART:20230312T070000
END:DAYLIGHT
BEGIN:STANDARD
TZOFFSETFROM:-0400
TZOFFSETTO:-0500
TZNAME:EST
DTSTART:20231105T060000
END:STANDARD
BEGIN:DAYLIGHT
TZOFFSETFROM:-0500
TZOFFSETTO:-0400
TZNAME:EDT
DTSTART:20240310T070000
END:DAYLIGHT
BEGIN:STANDARD
TZOFFSETFROM:-0400
TZOFFSETTO:-0500
TZNAME:EST
DTSTART:20241103T060000
END:STANDARD
END:VTIMEZONE
BEGIN:VEVENT
DTSTART;TZID=America/New_York:20231102T153000
DTEND;TZID=America/New_York:20231102T163000
DTSTAMP:20260421T190359
CREATED:20231102T175937Z
LAST-MODIFIED:20231102T175937Z
UID:7709-1698939000-1698942600@newfieldpubliclibrary.org
SUMMARY:Afterschool Special: Crazy Challenge Week
DESCRIPTION:Afterschool Special–a fun\, free educational enrichment program for middle school age students (grade 6-8/age 11-13). Take advantage of Wi-Fi and computers\, work on homework\, or play games. \nThe details including a permission slip are here. We hope to see you there! \nThis program is made possible by a grant from the Bernard Carl and Shirley Rosen Library Fund of the Community Foundation of Tompkins County.
URL:https://newfieldpubliclibrary.org/events/afterschool-special-crazy-challenge-week/
END:VEVENT
BEGIN:VEVENT
DTSTART;TZID=America/New_York:20231102T180000
DTEND;TZID=America/New_York:20231102T190000
DTSTAMP:20260421T190359
CREATED:20230907T185922Z
LAST-MODIFIED:20231214T161626Z
UID:7613-1698948000-1698951600@newfieldpubliclibrary.org
SUMMARY:Lego Night!
DESCRIPTION:Come for the fun! Legos provided!
URL:https://newfieldpubliclibrary.org/events/lego-night-9/
END:VEVENT
BEGIN:VEVENT
DTSTART;TZID=America/New_York:20231104T100000
DTEND;TZID=America/New_York:20231104T110000
DTSTAMP:20260421T190359
CREATED:20230906T145209Z
LAST-MODIFIED:20230906T145209Z
UID:7539-1699092000-1699095600@newfieldpubliclibrary.org
SUMMARY:Yoga for Beginners
DESCRIPTION:This gentle class is suitable for beginners and those with mobility issues. Optional deeper poses for those with experience. Bring a mat or blanket. Suggested donation: $10.00.  Meets every Saturday.  Read more here
URL:https://newfieldpubliclibrary.org/events/yoga-for-beginners-28/
END:VEVENT
BEGIN:VEVENT
DTSTART;TZID=America/New_York:20231107T103000
DTEND;TZID=America/New_York:20231107T113000
DTSTAMP:20260421T190359
CREATED:20230906T150425Z
LAST-MODIFIED:20230906T150425Z
UID:7563-1699353000-1699356600@newfieldpubliclibrary.org
SUMMARY:Family Storytime
DESCRIPTION:Read more!
URL:https://newfieldpubliclibrary.org/events/family-storytime-42/
END:VEVENT
BEGIN:VEVENT
DTSTART;TZID=America/New_York:20231107T153000
DTEND;TZID=America/New_York:20231107T163000
DTSTAMP:20260421T190359
CREATED:20231102T182507Z
LAST-MODIFIED:20231102T182507Z
UID:7756-1699371000-1699374600@newfieldpubliclibrary.org
SUMMARY:Afterschool Special: Board Game Week
DESCRIPTION:Afterschool Special–a fun\, free educational enrichment program for middle school age students (grade 6-8/age 11-13). Take advantage of Wi-Fi and computers\, work on homework\, or play games. \nThe details including a permission slip are here. We hope to see you there! \nThis program is made possible by a grant from the Bernard Carl and Shirley Rosen Library Fund of the Community Foundation of Tompkins County.
URL:https://newfieldpubliclibrary.org/events/afterschool-special-board-game-week-4/
END:VEVENT
BEGIN:VEVENT
DTSTART;TZID=America/New_York:20231108T033000
DTEND;TZID=America/New_York:20231108T163000
DTSTAMP:20260421T190359
CREATED:20231102T180324Z
LAST-MODIFIED:20231102T182253Z
UID:7713-1699414200-1699461000@newfieldpubliclibrary.org
SUMMARY:Afterschool Special: Board Game Week
DESCRIPTION:Afterschool Special–a fun\, free educational enrichment program for middle school age students (grade 6-8/age 11-13). Take advantage of Wi-Fi and computers\, work on homework\, or play games. \nThe details including a permission slip are here. We hope to see you there! \nThis program is made possible by a grant from the Bernard Carl and Shirley Rosen Library Fund of the Community Foundation of Tompkins County.
URL:https://newfieldpubliclibrary.org/events/afterschool-special-board-game-week-2/
END:VEVENT
BEGIN:VEVENT
DTSTART;TZID=America/New_York:20231109T153000
DTEND;TZID=America/New_York:20231109T163000
DTSTAMP:20260421T190359
CREATED:20231102T180349Z
LAST-MODIFIED:20231102T182342Z
UID:7715-1699543800-1699547400@newfieldpubliclibrary.org
SUMMARY:Afterschool Special: Board Game Week
DESCRIPTION:Afterschool Special–a fun\, free educational enrichment program for middle school age students (grade 6-8/age 11-13). Take advantage of Wi-Fi and computers\, work on homework\, or play games. \nThe details including a permission slip are here. We hope to see you there! \nThis program is made possible by a grant from the Bernard Carl and Shirley Rosen Library Fund of the Community Foundation of Tompkins County.
URL:https://newfieldpubliclibrary.org/events/afterschool-special-board-game-week-3/
END:VEVENT
BEGIN:VEVENT
DTSTART;TZID=America/New_York:20231111T100000
DTEND;TZID=America/New_York:20231111T110000
DTSTAMP:20260421T190359
CREATED:20230906T145243Z
LAST-MODIFIED:20230906T145243Z
UID:7541-1699696800-1699700400@newfieldpubliclibrary.org
SUMMARY:Yoga for Beginners
DESCRIPTION:This gentle class is suitable for beginners and those with mobility issues. Optional deeper poses for those with experience. Bring a mat or blanket. Suggested donation: $10.00.  Meets every Saturday.  Read more here
URL:https://newfieldpubliclibrary.org/events/yoga-for-beginners-29/
END:VEVENT
BEGIN:VEVENT
DTSTART;TZID=America/New_York:20231114T103000
DTEND;TZID=America/New_York:20231114T113000
DTSTAMP:20260421T190359
CREATED:20230906T150338Z
LAST-MODIFIED:20230906T150338Z
UID:7561-1699957800-1699961400@newfieldpubliclibrary.org
SUMMARY:Family Storytime
DESCRIPTION:Read more!
URL:https://newfieldpubliclibrary.org/events/family-storytime-41/
END:VEVENT
BEGIN:VEVENT
DTSTART;TZID=America/New_York:20231114T153000
DTEND;TZID=America/New_York:20231114T163000
DTSTAMP:20260421T190359
CREATED:20231102T180436Z
LAST-MODIFIED:20231102T182551Z
UID:7717-1699975800-1699979400@newfieldpubliclibrary.org
SUMMARY:Afterschool Special: Tasty Treat Week
DESCRIPTION:Afterschool Special–a fun\, free educational enrichment program for middle school age students (grade 6-8/age 11-13). Take advantage of Wi-Fi and computers\, work on homework\, or play games. \nThe details including a permission slip are here. We hope to see you there! \nThis program is made possible by a grant from the Bernard Carl and Shirley Rosen Library Fund of the Community Foundation of Tompkins County.
URL:https://newfieldpubliclibrary.org/events/afterschool-special-tasty-treat-week/
END:VEVENT
BEGIN:VEVENT
DTSTART;TZID=America/New_York:20231115T153000
DTEND;TZID=America/New_York:20231115T163000
DTSTAMP:20260421T190359
CREATED:20231102T180504Z
LAST-MODIFIED:20231102T182806Z
UID:7719-1700062200-1700065800@newfieldpubliclibrary.org
SUMMARY:Afterschool Special: Tasty Treat Week
DESCRIPTION:Afterschool Special–a fun\, free educational enrichment program for middle school age students (grade 6-8/age 11-13). Take advantage of Wi-Fi and computers\, work on homework\, or play games. \nThe details including a permission slip are here. We hope to see you there! \nThis program is made possible by a grant from the Bernard Carl and Shirley Rosen Library Fund of the Community Foundation of Tompkins County.
URL:https://newfieldpubliclibrary.org/events/afterschool-special-tasty-treat-week-2/
END:VEVENT
BEGIN:VEVENT
DTSTART;TZID=America/New_York:20231116T153000
DTEND;TZID=America/New_York:20231116T163000
DTSTAMP:20260421T190359
CREATED:20231102T180608Z
LAST-MODIFIED:20231102T182628Z
UID:7721-1700148600-1700152200@newfieldpubliclibrary.org
SUMMARY:Afterschool Special: Tasty Treat Week
DESCRIPTION:Afterschool Special–a fun\, free educational enrichment program for middle school age students (grade 6-8/age 11-13). Take advantage of Wi-Fi and computers\, work on homework\, or play games. \nThe details including a permission slip are here. We hope to see you there! \nThis program is made possible by a grant from the Bernard Carl and Shirley Rosen Library Fund of the Community Foundation of Tompkins County.
URL:https://newfieldpubliclibrary.org/events/afterschool-special-tasty-treat-week-3/
END:VEVENT
BEGIN:VEVENT
DTSTART;TZID=America/New_York:20231116T180000
DTEND;TZID=America/New_York:20231116T193000
DTSTAMP:20260421T190359
CREATED:20231116T165839Z
LAST-MODIFIED:20231116T165839Z
UID:7856-1700157600-1700163000@newfieldpubliclibrary.org
SUMMARY:Two Row Wampum Treaty
DESCRIPTION:Watch this Dryden library program at Newfield Public Library!
URL:https://newfieldpubliclibrary.org/events/two-row-wampum-treaty/
END:VEVENT
BEGIN:VEVENT
DTSTART;TZID=America/New_York:20231117T183000
DTEND;TZID=America/New_York:20231117T200000
DTSTAMP:20260421T190359
CREATED:20231108T185555Z
LAST-MODIFIED:20231116T164255Z
UID:7812-1700245800-1700251200@newfieldpubliclibrary.org
SUMMARY:Movie Night: Spiderman Across the Spider-Verse
DESCRIPTION:Join us for this exciting first-run movie.  Come for the fun\, and the free Popcorn!  Rated PG\, 140 minutes.
URL:https://newfieldpubliclibrary.org/events/movie-night-spiderman/
END:VEVENT
BEGIN:VEVENT
DTSTART;TZID=America/New_York:20231118T083000
DTEND;TZID=America/New_York:20231118T140000
DTSTAMP:20260421T190359
CREATED:20231019T154054Z
LAST-MODIFIED:20231019T174046Z
UID:7682-1700296200-1700316000@newfieldpubliclibrary.org
SUMMARY:Fall Book Sale!
DESCRIPTION:The Library is hosting a Fall Book Sale Nov. 18\, 8:30-2:00. Book prices are $5 per small bag\, $10 per large bag; all DVDs and puzzles for $.25. Proceeds benefit the Newfield Public Library!
URL:https://newfieldpubliclibrary.org/events/fall-book-sale/
END:VEVENT
BEGIN:VEVENT
DTSTART;TZID=America/New_York:20231118T100000
DTEND;TZID=America/New_York:20231118T110000
DTSTAMP:20260421T190359
CREATED:20230906T185458Z
LAST-MODIFIED:20230906T185458Z
UID:7593-1700301600-1700305200@newfieldpubliclibrary.org
SUMMARY:Yoga for Beginners
DESCRIPTION:This gentle class is suitable for beginners and those with mobility issues. Optional deeper poses for those with experience. Bring a mat or blanket. Suggested donation: $10.00.  Meets every Saturday.  Read more here
URL:https://newfieldpubliclibrary.org/events/yoga-for-beginners-30/
END:VEVENT
BEGIN:VEVENT
DTSTART;TZID=America/New_York:20231121T080000
DTEND;TZID=America/New_York:20231121T170000
DTSTAMP:20260421T190359
CREATED:20231102T180702Z
LAST-MODIFIED:20231102T180702Z
UID:7723-1700553600-1700586000@newfieldpubliclibrary.org
SUMMARY:No Afterschool Program
DESCRIPTION:
URL:https://newfieldpubliclibrary.org/events/no-afterschool-program/
END:VEVENT
BEGIN:VEVENT
DTSTART;TZID=America/New_York:20231121T103000
DTEND;TZID=America/New_York:20231121T113000
DTSTAMP:20260421T190359
CREATED:20230906T150833Z
LAST-MODIFIED:20230906T150833Z
UID:7565-1700562600-1700566200@newfieldpubliclibrary.org
SUMMARY:Family Storytime
DESCRIPTION:Read more!
URL:https://newfieldpubliclibrary.org/events/family-storytime-43/
END:VEVENT
BEGIN:VEVENT
DTSTART;TZID=America/New_York:20231121T183000
DTEND;TZID=America/New_York:20231121T190000
DTSTAMP:20260421T190359
CREATED:20230906T173414Z
LAST-MODIFIED:20230906T173414Z
UID:7586-1700591400-1700593200@newfieldpubliclibrary.org
SUMMARY:NPL Board Mtg.
DESCRIPTION:
URL:https://newfieldpubliclibrary.org/events/npl-board-mtg-2/
END:VEVENT
BEGIN:VEVENT
DTSTART;TZID=America/New_York:20231122T080000
DTEND;TZID=America/New_York:20231122T170000
DTSTAMP:20260421T190359
CREATED:20231102T180744Z
LAST-MODIFIED:20231102T180744Z
UID:7725-1700640000-1700672400@newfieldpubliclibrary.org
SUMMARY:No Afterschool Program
DESCRIPTION:
URL:https://newfieldpubliclibrary.org/events/no-afterschool-program-2/
END:VEVENT
BEGIN:VEVENT
DTSTART;VALUE=DATE:20231123
DTEND;VALUE=DATE:20231124
DTSTAMP:20260421T190359
CREATED:20231102T183358Z
LAST-MODIFIED:20231102T183641Z
UID:7762-1700697600-1700783999@newfieldpubliclibrary.org
SUMMARY:CLOSED
DESCRIPTION:Happy Thanksgiving!!
URL:https://newfieldpubliclibrary.org/events/closed-22/
END:VEVENT
BEGIN:VEVENT
DTSTART;VALUE=DATE:20231124
DTEND;VALUE=DATE:20231125
DTSTAMP:20260421T190359
CREATED:20231102T183443Z
LAST-MODIFIED:20231102T183443Z
UID:7764-1700784000-1700870399@newfieldpubliclibrary.org
SUMMARY:CLOSED
DESCRIPTION:Happy Thanksgiving!
URL:https://newfieldpubliclibrary.org/events/closed-23/
END:VEVENT
BEGIN:VEVENT
DTSTART;TZID=America/New_York:20231125T100000
DTEND;TZID=America/New_York:20231125T110000
DTSTAMP:20260421T190359
CREATED:20230906T185535Z
LAST-MODIFIED:20231120T190946Z
UID:7595-1700906400-1700910000@newfieldpubliclibrary.org
SUMMARY:No Yoga Nov 25
DESCRIPTION:This gentle class is suitable for beginners and those with mobility issues. Optional deeper poses for those with experience. Bring a mat or blanket. Suggested donation: $10.00.  Meets every Saturday.  Read more here
URL:https://newfieldpubliclibrary.org/events/yoga-for-beginners-31/
END:VEVENT
BEGIN:VEVENT
DTSTART;TZID=America/New_York:20231127T190000
DTEND;TZID=America/New_York:20231127T200000
DTSTAMP:20260421T190359
CREATED:20231115T163130Z
LAST-MODIFIED:20231116T162623Z
UID:7828-1701111600-1701115200@newfieldpubliclibrary.org
SUMMARY:A Beaver Tail with Dave Hall
DESCRIPTION:Join us at the Library when Dave Hall\, naturalist and author\, shares a unique perspective on the lives of three special beavers.
URL:https://newfieldpubliclibrary.org/events/beaver-tail-with-dave-hall/
END:VEVENT
BEGIN:VEVENT
DTSTART;TZID=America/New_York:20231128T103000
DTEND;TZID=America/New_York:20231128T113000
DTSTAMP:20260421T190359
CREATED:20230906T150915Z
LAST-MODIFIED:20230906T150915Z
UID:7567-1701167400-1701171000@newfieldpubliclibrary.org
SUMMARY:Family Storytime
DESCRIPTION:Read more!
URL:https://newfieldpubliclibrary.org/events/family-storytime-44/
END:VEVENT
BEGIN:VEVENT
DTSTART;TZID=America/New_York:20231128T153000
DTEND;TZID=America/New_York:20231128T163000
DTSTAMP:20260421T190359
CREATED:20231102T180850Z
LAST-MODIFIED:20231102T195606Z
UID:7729-1701185400-1701189000@newfieldpubliclibrary.org
SUMMARY:Afterschool Program: Lego Week
DESCRIPTION:Afterschool Special–a fun\, free educational enrichment program for middle school age students (grade 6-8/age 11-13). Take advantage of Wi-Fi and computers\, work on homework\, or play games. \nThe details including a permission slip are here. We hope to see you there! \nThis program is made possible by a grant from the Bernard Carl and Shirley Rosen Library Fund of the Community Foundation of Tompkins County.
URL:https://newfieldpubliclibrary.org/events/afterschool-program-lego-week/
END:VEVENT
BEGIN:VEVENT
DTSTART;TZID=America/New_York:20231129T153000
DTEND;TZID=America/New_York:20231129T163000
DTSTAMP:20260421T190359
CREATED:20231102T180917Z
LAST-MODIFIED:20231102T183815Z
UID:7731-1701271800-1701275400@newfieldpubliclibrary.org
SUMMARY:Afterschool Program: Lego Week
DESCRIPTION:Afterschool Special–a fun\, free educational enrichment program for middle school age students (grade 6-8/age 11-13). Take advantage of Wi-Fi and computers\, work on homework\, or play games. \nThe details including a permission slip are here. We hope to see you there! \nThis program is made possible by a grant from the Bernard Carl and Shirley Rosen Library Fund of the Community Foundation of Tompkins County.
URL:https://newfieldpubliclibrary.org/events/afterschool-program-lego-week-2/
END:VEVENT
BEGIN:VEVENT
DTSTART;TZID=America/New_York:20231130T153000
DTEND;TZID=America/New_York:20231130T163000
DTSTAMP:20260421T190359
CREATED:20231102T180944Z
LAST-MODIFIED:20231102T183837Z
UID:7733-1701358200-1701361800@newfieldpubliclibrary.org
SUMMARY:Afterschool Program: Lego Week
DESCRIPTION:Afterschool Special–a fun\, free educational enrichment program for middle school age students (grade 6-8/age 11-13). Take advantage of Wi-Fi and computers\, work on homework\, or play games. \nThe details including a permission slip are here. We hope to see you there! \nThis program is made possible by a grant from the Bernard Carl and Shirley Rosen Library Fund of the Community Foundation of Tompkins County.
URL:https://newfieldpubliclibrary.org/events/afterschool-program-lego-week-3/
END:VEVENT
END:VCALENDAR